BEGIN:VCALENDAR
VERSION:2.0
PRODID:-//AMRA - ECPv6.15.17.1//NONSGML v1.0//EN
CALSCALE:GREGORIAN
METHOD:PUBLISH
X-ORIGINAL-URL:https://www.amra.org
X-WR-CALDESC:Events for AMRA
REFRESH-INTERVAL;VALUE=DURATION:PT1H
X-Robots-Tag:noindex
X-PUBLISHED-TTL:PT1H
BEGIN:VTIMEZONE
TZID:America/Chicago
BEGIN:DAYLIGHT
TZOFFSETFROM:-0600
TZOFFSETTO:-0500
TZNAME:CDT
DTSTART:20190310T080000
END:DAYLIGHT
BEGIN:STANDARD
TZOFFSETFROM:-0500
TZOFFSETTO:-0600
TZNAME:CST
DTSTART:20191103T070000
END:STANDARD
BEGIN:DAYLIGHT
TZOFFSETFROM:-0600
TZOFFSETTO:-0500
TZNAME:CDT
DTSTART:20200308T080000
END:DAYLIGHT
BEGIN:STANDARD
TZOFFSETFROM:-0500
TZOFFSETTO:-0600
TZNAME:CST
DTSTART:20201101T070000
END:STANDARD
BEGIN:DAYLIGHT
TZOFFSETFROM:-0600
TZOFFSETTO:-0500
TZNAME:CDT
DTSTART:20210314T080000
END:DAYLIGHT
BEGIN:STANDARD
TZOFFSETFROM:-0500
TZOFFSETTO:-0600
TZNAME:CST
DTSTART:20211107T070000
END:STANDARD
BEGIN:DAYLIGHT
TZOFFSETFROM:-0600
TZOFFSETTO:-0500
TZNAME:CDT
DTSTART:20220313T080000
END:DAYLIGHT
BEGIN:STANDARD
TZOFFSETFROM:-0500
TZOFFSETTO:-0600
TZNAME:CST
DTSTART:20221106T070000
END:STANDARD
END:VTIMEZONE
BEGIN:VTIMEZONE
TZID:UTC
BEGIN:STANDARD
TZOFFSETFROM:+0000
TZOFFSETTO:+0000
TZNAME:UTC
DTSTART:20180101T000000
END:STANDARD
END:VTIMEZONE
BEGIN:VTIMEZONE
TZID:America/Denver
BEGIN:DAYLIGHT
TZOFFSETFROM:-0700
TZOFFSETTO:-0600
TZNAME:MDT
DTSTART:20180311T090000
END:DAYLIGHT
BEGIN:STANDARD
TZOFFSETFROM:-0600
TZOFFSETTO:-0700
TZNAME:MST
DTSTART:20181104T080000
END:STANDARD
BEGIN:DAYLIGHT
TZOFFSETFROM:-0700
TZOFFSETTO:-0600
TZNAME:MDT
DTSTART:20190310T090000
END:DAYLIGHT
BEGIN:STANDARD
TZOFFSETFROM:-0600
TZOFFSETTO:-0700
TZNAME:MST
DTSTART:20191103T080000
END:STANDARD
BEGIN:DAYLIGHT
TZOFFSETFROM:-0700
TZOFFSETTO:-0600
TZNAME:MDT
DTSTART:20200308T090000
END:DAYLIGHT
BEGIN:STANDARD
TZOFFSETFROM:-0600
TZOFFSETTO:-0700
TZNAME:MST
DTSTART:20201101T080000
END:STANDARD
END:VTIMEZONE
BEGIN:VEVENT
DTSTART;TZID=America/Chicago:20210203T130000
DTEND;TZID=America/Chicago:20210203T140000
DTSTAMP:20260421T033845
CREATED:20210111T174916Z
LAST-MODIFIED:20210301T155156Z
UID:10000006-1612357200-1612360800@www.amra.org
SUMMARY:MAP Winter Webinar Series
DESCRIPTION:Much like many of you and your organizations\, AMRA has had to shift gears from our normal course of business throughout the pandemic.  With that being said\, we have created this FREE webinar series to replace our traditional Winter Technical Conference.  These sixty to ninety minute webinars will cover a variety of topics which are all relevant to your business. We have partnered with J.D. Power\, CTI and Bridgestone among others to provide you with valuable content.  All the events are free to members.  The schedule and topics are listed on the promo below. \n2021-winter-webinar-series-promo\n  \n﻿﻿
URL:https://www.amra.org/event/map-winter-webinar-series/2021-02-03/
ORGANIZER;CN="Automotive Maintenance & Repair Association":MAILTO:amra@motorist.org
END:VEVENT
BEGIN:VEVENT
DTSTART;TZID=America/Chicago:20201209T130000
DTEND;TZID=America/Chicago:20201209T140000
DTSTAMP:20260421T033845
CREATED:20200820T235114Z
LAST-MODIFIED:20200821T150521Z
UID:10000016-1607518800-1607522400@www.amra.org
SUMMARY:MAP Fall Webinar Series - California Bureau of Automotive Repair (BAR) Update
DESCRIPTION:  \nCalifornia Bureau of Automotive Repair (BAR) Update\nPatrick Dorais\, Chief – Bureau of Automotive Repair\n  \nmap-fall-webinar-series-promo-1-1\n 
URL:https://www.amra.org/event/map-fall-webinar-series-california-brueau-of-automotive-repair-bar-update/
END:VEVENT
BEGIN:VEVENT
DTSTART;TZID=America/Chicago:20201111T130000
DTEND;TZID=America/Chicago:20201111T140000
DTSTAMP:20260421T033845
CREATED:20200820T235126Z
LAST-MODIFIED:20200821T150555Z
UID:10000002-1605099600-1605103200@www.amra.org
SUMMARY:MAP Fall Webinar Series - AMRA Membership Meeting
DESCRIPTION:  \nAMRA Membership Meeting\n  \nmap-fall-webinar-series-promo-1-1\n  \n 
URL:https://www.amra.org/event/map-fall-webinar-series-amra-membership-meeting/
END:VEVENT
BEGIN:VEVENT
DTSTART;TZID=America/Chicago:20201028T130000
DTEND;TZID=America/Chicago:20201028T143000
DTSTAMP:20260421T033845
CREATED:20200820T235129Z
LAST-MODIFIED:20200821T150823Z
UID:10000018-1603890000-1603895400@www.amra.org
SUMMARY:MAP Fall Webinar Series - AUTEL
DESCRIPTION:  \nAccessing the FCA Secure Gateway – George Lesniak\nWith cyber security being a growing concern for today’s vehicles\, auto makers have implemented new ways to protect vehicles onboard network. Accessing the vehicles network can be challenging and vary by manufacturer\, this webinar address the challenges surrounding FCA Secure Gateway. \nmap-fall-webinar-series-promo-1-1\n  \n 
URL:https://www.amra.org/event/map-fall-webinar-series-autel/
END:VEVENT
BEGIN:VEVENT
DTSTART;TZID=America/Chicago:20201014T130000
DTEND;TZID=America/Chicago:20201014T140000
DTSTAMP:20260421T033845
CREATED:20200820T235206Z
LAST-MODIFIED:20200821T150759Z
UID:10000004-1602680400-1602684000@www.amra.org
SUMMARY:MAP Fall Webinar Series - Garage Gurus
DESCRIPTION:  \nDiagnosing Modern Chassis Systems – John Dixon\nDRiV / Garage Gurus\nUnderstanding the important relationships between component integrity\, alignment geometry\, vehicle handling and tire wear. As well as proper inspection procedures for all suspension and steering system types. \nmap-fall-webinar-series-promo-1-1\n  \n 
URL:https://www.amra.org/event/map-fall-webinar-series-garage-gurus/
END:VEVENT
BEGIN:VEVENT
DTSTART;TZID=America/Chicago:20200930T130000
DTEND;TZID=America/Chicago:20200930T140000
DTSTAMP:20260421T033845
CREATED:20200820T235217Z
LAST-MODIFIED:20200821T150754Z
UID:10000014-1601470800-1601474400@www.amra.org
SUMMARY:MAP Fall Webinar Series - FACEBOOK
DESCRIPTION:EXPERIENCE IS THE NEW BRAND\nThe future of automotive service and repair engagement.\nCarNow / Facebook – Tim Cox and Trace Przybylowicz\n  \nSCROLL DOWN TO REGISTER\n  \nmap-fall-webinar-series-promo-1-1\n  \n 
URL:https://www.amra.org/event/map-fall-webinar-series-facebook/
END:VEVENT
BEGIN:VEVENT
DTSTART;TZID=America/Chicago:20200916T130000
DTEND;TZID=America/Chicago:20200916T140000
DTSTAMP:20260421T033845
CREATED:20200820T235209Z
LAST-MODIFIED:20200916T141842Z
UID:10000024-1600261200-1600264800@www.amra.org
SUMMARY:MAP Fall Webinar Series - IMR Inc.
DESCRIPTION:[vc_row][vc_column][vc_column_text css=”.vc_custom_1600265734583{margin-bottom: 0px !important;}”]\nVehicle Service and Repair Trends & Consumer Perception and Service Expectations Amid the Pandemic – Bill Thompson\nIMR will discuss vehicle service and repair trends that have emerged from their Weekly Vehicle Maintenance Monitor and their Consumer Auto Maintenance tracking studies. Topics will include channel share shifts\, delayed maintenance trends\, vehicle maintainer perceptions about visiting repair shops for service\, their safety expectations from shops and more. \nSCROLL DOWN TO REGISTER\n  \nmap-fall-webinar-series-promo-1-1\n  \n  \n[/vc_column_text][/vc_column][/vc_row][vc_row][vc_column][/vc_column][vc_column][/vc_column][vc_column][vc_btn title=”Click Here to Register” color=”primary” size=”lg” align=”center” css_animation=”fadeInDownBig” link=”url:https%3A%2F%2Fus02web.zoom.us%2Fwebinar%2Fregister%2FWN_UF5g3cI0Q2ScqAsfKN6GKQ||target:%20_blank|”][/vc_column][/vc_row]
URL:https://www.amra.org/event/map-fall-webinar-series-imr-inc/
END:VEVENT
BEGIN:VEVENT
DTSTART;TZID=America/Chicago:20200909T130000
DTEND;TZID=America/Chicago:20200909T140000
DTSTAMP:20260421T033845
CREATED:20210111T174916Z
LAST-MODIFIED:20210301T155156Z
UID:10000005-1599656400-1599660000@www.amra.org
SUMMARY:MAP Winter Webinar Series
DESCRIPTION:Much like many of you and your organizations\, AMRA has had to shift gears from our normal course of business throughout the pandemic.  With that being said\, we have created this FREE webinar series to replace our traditional Winter Technical Conference.  These sixty to ninety minute webinars will cover a variety of topics which are all relevant to your business. We have partnered with J.D. Power\, CTI and Bridgestone among others to provide you with valuable content.  All the events are free to members.  The schedule and topics are listed on the promo below. \n2021-winter-webinar-series-promo\n  \n﻿﻿
URL:https://www.amra.org/event/map-winter-webinar-series/2020-09-09/
ORGANIZER;CN="Automotive Maintenance & Repair Association":MAILTO:amra@motorist.org
END:VEVENT
BEGIN:VEVENT
DTSTART;TZID=America/Chicago:20200909T130000
DTEND;TZID=America/Chicago:20200909T140000
DTSTAMP:20260421T033845
CREATED:20200820T232120Z
LAST-MODIFIED:20200821T150737Z
UID:10000021-1599656400-1599660000@www.amra.org
SUMMARY:MAP Fall Webinar Series
DESCRIPTION:Much like many of you and your organizations\, AMRA has had to shift gears from our normal course of business throughout the pandemic.  With that being said\, we have created this FREE webinar series to replace our traditional Fall Technical Conference and Membership meeting.  These sixty to ninety minute webinars will cover a variety of topics which are all relevant to your business. We have partnered with J.D. Power\, IMR and Facebook among others to provide you with valuable consumer facing content while Autel\, DRiV/Garage Gurus\, and others will be presenting topics that are more technical in nature. All the events are free to members.  The schedule and topics are listed on the promo below. \nmap-fall-webinar-series-promo-1-1\n  \n 
URL:https://www.amra.org/event/map-fall-webinar-series/
ORGANIZER;CN="Automotive Maintenance & Repair Association":MAILTO:amra@motorist.org
END:VEVENT
BEGIN:VEVENT
DTSTART;TZID=America/Chicago:20200527T130000
DTEND;TZID=America/Chicago:20200527T140000
DTSTAMP:20260421T033845
CREATED:20200514T185156Z
LAST-MODIFIED:20200520T152852Z
UID:10000019-1590584400-1590588000@www.amra.org
SUMMARY:Webinar: The Secret Handshake
DESCRIPTION:Register for this webinar\nAfter registering\, you will receive a confirmation email containing information about joining the webinar.
URL:https://www.amra.org/event/webinar-the-secret-handshake/
ORGANIZER;CN="Automotive Maintenance & Repair Association":MAILTO:amra@motorist.org
END:VEVENT
BEGIN:VEVENT
DTSTART;TZID=America/Chicago:20200505T080000
DTEND;TZID=America/Chicago:20200506T130000
DTSTAMP:20260421T033845
CREATED:20200127T214003Z
LAST-MODIFIED:20200319T134907Z
UID:10000022-1588665600-1588770000@www.amra.org
SUMMARY:Spring MAP Technical Conference w/NASTF & ETI
DESCRIPTION:2020-spring-meeting-amra-eti-nastf.xlsx
URL:https://www.amra.org/event/spring-map-technical-conference-w-nastf-eti/
LOCATION:HOTEL DEL CORONADO\, 1500 Orange Ave\, Coronado\, CA\, 92118\, United States
ORGANIZER;CN="Automotive Maintenance & Repair Association":MAILTO:amra@motorist.org
END:VEVENT
BEGIN:VEVENT
DTSTART;TZID=UTC:20200114T080000
DTEND;TZID=UTC:20200115T170000
DTSTAMP:20260421T033845
CREATED:20190612T235815Z
LAST-MODIFIED:20191203T174200Z
UID:10000023-1578988800-1579107600@www.amra.org
SUMMARY:MAP Winter Technical Conference
DESCRIPTION:The Conference will be held January 14–15\, 2020 at Orlando Airport Marriott Lakeside Hotel. \n7499 Augusta National Drive\, Orlando\, FL 32822 \n  \nWe invite you to join us! \n  \nDATES and TIMES:                                   Tuesday\, January 14    \n7:30 AM – 8:30 AM – Hot Breakfast in Meeting Room \n8:30 AM – 5:00 PM – Technical Conference (with lunch) \nWednesday\, January 15  \n7:30 AM – 8:30 AM – Hot Breakfast in Meeting Room \n8:30 AM – 11:30 AM – Technical Conference \n11:30 AM – 12:30 PM – Lunch \nREGISTRATION FEES: MEETING\, Tuesday and Wednesday(1/14 & 1/15) \n$150 for AMRA members and 1st-Time attendees \n$250 for non-members \nNetworking Dinner: DINNER & RECEPTION\, Tuesday\, January 14th \n6:00 PM Networking Reception and Dinner \n$75   for AMRA members and 1st-Time attendees \n$100 for non-members \nLocation: Crimson Tavern  \nOrlando Airport Marriott Lakeside Hotel \n7499 Augusta National Drive \nOrlando\, FL 32822 \n  \nDRESS CODE: For all meetings and the networking dinner\, \ndress is BUSINESS CASUAL. \n  \nSUGGESTED LODGING: Orlando Airport Marriott Lakeside Hotel  \n7499 Augusta National Drive \nOrlando\, FL 32822 \n(800) 380-6751 \nAll reservations are responsibility of attendee and must be made by December 24\, 2019 to obtain the $184 (+tax) per night rate. Please contact the Orlando Airport Marriott Lakeside Hotel  directly for hotel reservations at 800-380-6751. You must ask for and identify yourself  as a member of the Automotive Maintenance & Repair Association (Group Code: AMRA) right click on the link below to register online. \nOrlando Airport Marriott Lakeside Hotel \n  \nTRANSPORTATION TO HOTEL: Complimentary shuttle bus service is available to the Orlando Airport Marriott Lakeside Hotel  by calling 407-851-9000.  If you are driving to the hotel\, parking is available at a rate of $16 per day. \n  \nDEADLINES: \n HOTEL   – Reservation must be made by December 24\, 2019 for discounted rate \n MEETING – Registration must be received by AMRA/MAP by January 10\, 2020 \n 
URL:https://www.amra.org/event/2020_winter_map_technical_conference/
LOCATION:Orlando Airport Marriott Lakeside Hotel\, 7499 Augusta National Drive\, Orlando\, FL\, 32822\, United States
ORGANIZER;CN="Automotive Maintenance & Repair Association":MAILTO:amra@motorist.org
END:VEVENT
BEGIN:VEVENT
DTSTART;TZID=America/Denver:20191104T163000
DTEND;TZID=America/Denver:20191104T163000
DTSTAMP:20260421T033845
CREATED:20190612T232855Z
LAST-MODIFIED:20191008T163350Z
UID:10000017-1572885000-1572885000@www.amra.org
SUMMARY:AMRA Annual Members' Meeting
DESCRIPTION:[vc_row][vc_column][vc_single_image image=”9933″ img_size=”full” alignment=”center”][/vc_column][/vc_row]
URL:https://www.amra.org/event/2019-amra-annual-mem-meeting/
LOCATION:The Venetian/Palazzo\, 3355 S Las Vegas Blvd. (Level 4) Rooms 4204-5 - 4304-5\, Las Vegas\, NV\, 89109\, United States
ORGANIZER;CN="Automotive Maintenance & Repair Association":MAILTO:amra@motorist.org
END:VEVENT
BEGIN:VEVENT
DTSTART;TZID=UTC:20190820T080000
DTEND;TZID=UTC:20190821T123000
DTSTAMP:20260421T033845
CREATED:20190612T223751Z
LAST-MODIFIED:20190807T223521Z
UID:10000020-1566288000-1566390600@www.amra.org
SUMMARY:MAP Fall Technical Conference
DESCRIPTION:We invite you to join us!\nAgenda\n\nTuesday\, Aug 20 – OLC Education and Conference Center \n8:00 AM – 9:00 AM – Hot Breakfast in Meeting Room \n9:00 AM – 5:00 PM – Technical Conference (with lunch) \nWednesday\, Aug 21- OLC Education and Conference Center \n8:00 AM – 9:00 AM – Hot Breakfast in Meeting Room \n9:00 AM – 11:30 AM – Technical Conference \n11:30 AM – 12:30 PM – Lunch \n\n\nNetworking Dinner: Dinner & Reception (available)\n6:00 PM Networking Reception and Dinner\nLocation:\nTruluck’s Seafood\, Steak and Crab House\n9860 Berwyn Avenue\nRosemont\, IL\n\n\nOther Event Details\nDRESS CODE: For all meetings and the networking dinner\, dress is BUSINESS CASUAL.\nSuggested Lodging\nHampton Inn & Suites Rosemont-Chicago/O’Hare\n9480 West Higgins Road\nRosemont\, Illinois 60018\nRate: $179.00 (+tax) 847-692-3000\nHilton Garden Inn – Chicago/O’Hare Airport\n2930 South River Road\nDes Plaines\, Illinois 60018\nRate: $159.00 (+tax) 847-954-2384\nAll reservations are responsibility of attendee and must be made by August 2\, 2019 to obtain the event rate. Please contact the hotel directly for hotel reservations or click the link in the hotel name above. You must ask for and identify yourself as a member of the Automotive Maintenance & Repair Association (Group Code: AMRA)\n\nTRANSPORTATION TO HOTEL: Complimentary shuttle bus service is available to the Hotel.
URL:https://www.amra.org/event/map-fall-tech-conf/
LOCATION:OLC Education and Conference Center\, 9400 West Higgins Rd.\, Auditorium B & C\, Rosemont\, IL\, 60018\, United States
ATTACH;FMTTYPE=image/png:https://www.amra.org/wp-content/uploads/2019/06/map-technical-conference-logo.png
GEO:41.99146;-87.86039
X-APPLE-STRUCTURED-LOCATION;VALUE=URI;X-ADDRESS=OLC Education and Conference Center 9400 West Higgins Rd. Auditorium B & C Rosemont IL 60018 United States;X-APPLE-RADIUS=500;X-TITLE=9400 West Higgins Rd.\, Auditorium B & C:geo:-87.86039,41.99146
END:VEVENT
END:VCALENDAR